Workbook

Sheet Preambuła
B2: Preambuła do Przedmiaru robót
B3: 3-11-17-184-1 pn. „Kórnik - sieć wodociągowa w ul. Miętowej w Skrzynkach”
B4: Wyceniony Przedmiar robót (PR) służy do rozliczenia Robót, jednocześnie nie przesądza o zakresie Robót do wykonania w ramach Umowy.
B5: Przyjmuje się, że Wykonawca dokładnie zapoznał się ze szczegółowym opisem i zakresem Robót, jakie mają zostać wykonane w ramach Umowy oraz sposobem ich wykonania.
B6: Przy dokonywaniu wyceny poszczególnych pozycji w PR należy opierać się na zapisach Dokumentacji Projektowej (DP) oraz Specyfikacji Technicznych Wykonania i Odbioru Robót Budowlanych (STWiORB).
B7: Pozycje w PR są zagregowane i opisują Roboty objęte Umową w sposób skrócony. Opis pozycji w PR nie powiela pełnego opisu robót i metod wykonania podanych w DP oraz STWiORB. Uważa się jednak, że poszczególne pozycje PR obejmują wszystkie czynności konieczne do całkowitego i poprawnego wykonania przedmiotowych Robót, zgodnie ze sztuką budowlaną i obowiązującymi przepisami, czy jest to detalicznie wymienione w SWZ, czy też nie.
B8: Stawka lub cena jednostkowa zaproponowana przez Wykonawcę za daną pozycję w wycenionym PR obejmuje wszelkie niezbędne do wykonania danych Robót prace, sprzęt, opracowania, wymagane uzgodnienia i pozwolenia.
B9: Stawka lub cena jednostkowa zaproponowana przez Wykonawcę za daną pozycję w wycenionym PR jest ostateczna i wyklucza możliwość żądania dodatkowej zapłaty za wykonane Roboty, objęte tą pozycją przedmiarową.
B10: 1. Pomiary ilości
B11: Ilości podane dla poszczególnych pozycji w niniejszym PR są wielkościami szacunkowymi, określonymi na podstawie DP i zostały podane, w celu stworzenia wspólnej podstawy dla ofert.
B12: Podstawą płatności będzie faktyczna ilość wykonanych Robót, tak jak zostaną one obmierzone przez Wykonawcę i poświadczone przez Zamawiającego oraz wycenione po stawkach i cenach jednostkowych, podanych w wycenionym PR.
B13: Przy obmierzaniu wykonanych Robót nie będą uwzględniane żadne straty materiałów w czasie ich transportu, składowania i wbudowania.
... B32: Wartości wprowadzane dla każdej pozycji PR winny być wynikiem przemnożenia ilości jednostek przez cenę jednostkową. Zamawiający dokona poprawek jakichkolwiek błędów arytmetycznych powstałych podczas naliczenia lub dodawania w sposób określony w SWZ dla wykonawców składających oferty.

Sheet Przedmiar robót
B2: Scalony Przedmiar Robót
B3: 3-11-17-184-1 pn. „Kórnik - sieć wodociągowa w ul. Miętowej w Skrzynkach”
B4: L.P. | C4: Poz. | D4: KOD (nr PW) | E4: ST | F4: Wyszczególnienie | G4: Jedn. miary | H4: Ilość | I4: Cena jednostkowa [PLN] | J4: Wartość netto [PLN]
B5: 1 | C5: SIEĆ WODOCIĄGOWA
C6: 1 | D6: SKR/MIE/ PBW/WS | E6: ST.02 | F6: Sieć wodociągowa z rur PE100 SDR17 PN10 Ø125/7,4 mm / z rur z żeliwa sferoidalnego DN100 mm na odcinkach od W1 do W22 metodą wykopu otwartego - wraz z kształtkami, armaturą, włączeniem w sieć istniejącą w węźle W1 i tymczasową organizacja ruchu na czas budowy - pełen zakres technologiczny | G6: m | H6: 315.13 | J6: =ROUND(H6*I6,2) -> 0
C7: 2 | D7: SKR/MIE/ PBW/WS | E7: ST.02 | F7: Przyłącze hydrantowe W4 - Hp1 oraz montaż hydrantu podziemnego Hp1 - pełen zakres technologiczny | G7: kpl | H7: 1 | J7: =ROUND(H7*I7,2) -> 0
C8: 3 | D8: SKR/MIE/ PBW/WS | E8: ST.02 | F8: Przyłącze hydrantowe W9 - Hn2 oraz W22 - Hn3 oraz montaż hydrantów nadziemnych Hn2 i Hn3 - pełen zakres technologiczny | G8: kpl | H8: 2 | J8: =ROUND(H8*I8,2) -> 0
C9: 4 | D9: SKR/MIE/ PBW/WS | E9: ST.02 | F9: Likwidacja istniejącego fragmentu sieci o średnicy 90mm z rur PVC, demontaż istniejącego hydrantu, obudów i skrzynek do zasuw oraz usunięcie tabliczek informacyjnych, związanych z wyłączanym uzbrojeniem | G9: kpl | H9: 1 | J9: =ROUND(H9*I9,2) -> 0
B10: 2 | C10: PRZYŁĄCZA WODOCIĄGOWE
C11: 5 | D11: SKR/MIE/ PBW/WP | E11: ST.02 | F11: Przyłącze wodociągowe z rur PE100 SRD11 PN16 Ø32 mm (przyłącze nr P1) - pełen zakres technologiczny, w tym również podłączenie do przyłącza istniejącego i wykonanie tymczasowego by-passu na czas trwania robót (w celu zachowania ciągłości świadczenia usług) | G11: kpl | H11: 1 | J11: =ROUND(H11*I11,2) -> 0
C12: 6 | D12: SKR/MIE/ PBW/WP | E12: ST.03 | F12: Rurociąg z rur PE100 SRD11 PN16 Ø32 mm (przyłącza nr P2, P3, P6, P8) - pełen zakres technologiczny, w tym również odtworzenie nawierzchni na działkach prywatnych | G12: m | H12: 30.95 | J12: =ROUND(H12*I12,2) -> 0
C13: 7 | D13: SKR/MIE/ PBW/WP | E13: ST.02 | F13: Rurociąg z rur PE100 SRD11 PN16 Ø40 mm (przyłącza nr P4, P5, P7, P9, P10) - pełen zakres technologiczny, w tym również odtworzenie nawierzchni na działce prywatnej | G13: m | H13: 110.87 | J13: =ROUND(H13*I13,2) -> 0
C14: 8 | D14: SKR/MIE/ PBW/WP | E14: ST.02 | F14: Rurociąg z rur PE100 SRD11 PN16 Ø50 mm (przyłącze nr P11) - pełen zakres technologiczny, w tym również odtworzenie nawierzchni na działkach prywatnych | G14: m | H14: 10.81 | J14: =ROUND(H14*I14,2) -> 0
C15: 9 | D15: SKR/MIE/ PBW/WP | E15: ST.02 | F15: Montaż studzienki wodomierzowej tworzywowej 500 mm (przyłącze nr P3, P6) wraz z armaturą (w tym również z zaworem antyskażeniowym) i kształtkami - pełen zakres technologiczny | G15: kpl | H15: 2 | J15: =ROUND(H15*I15,2) -> 0
C16: 10 | D16: SKR/MIE/ PBW/WP | E16: ST.02 | F16: Montaż studzienki wodomierzowej tworzywowej 600 mm z włazem D-400 (przyłącze nr P11) wraz z armaturą (w tym również z zaworem antyskażeniowym) i kształtkami - pełen zakres technologiczny | G16: kpl | H16: 1 | J16: =ROUND(H16*I16,2) -> 0
C17: 11 | D17: SKR/MIE/ PBW/WP | E17: ST.02 | F17: Montaż konsoli wodomierzowej (przyłącze nr P4, P5, P7, P9, P10) wraz z armaturą (w tym również z zaworem antyskażeniowym) i kształtkami oraz przejściem przez ścianę budynku i przywróceniem miejsca montażu do stanu pierwotnego - pełen zakres technologiczny | G17: kpl | H17: 5 | J17: =ROUND(H17*I17,2) -> 0
B18: 3 | C18: ODTWORZENIE NAWIERZCHNI
C19: 12 | D19: ODT | E19: ST.03 D-01; D-03 | F19: Nawierzchnia z kruszywa łamanego fr. 0-31,5 mm stabilizowanego mechanicznie, grubość warstwy po zagęszczeniu 30 cm, z wykonaniem koryta na całej szerokości jezdni w gruncie kat. I-IV głębokości 20 cm, z wywozem i utylizacją urobku, profilowaniem i zagęszczeniem podłoża (działka o nr geod. 80) | G19: m2 | H19: 445.4 | J19: =ROUND(H19*I19,2) -> 0
C20: 13 | D20: ODT | E20: ST.03 D-01; D-03 | F20: Nawierzchnia z kruszywa łamanego fr. 0-31,5 mm stabilizowanego mechanicznie, grubość warstwy po zagęszczeniu 30 cm, z wykonaniem koryta na całej szerokości jezdni w gruncie kat. I-IV głębokości 20 cm, z wywozem i utylizacją urobku, profilowaniem i zagęszczeniem podłoża (działka o nr geod. 81/5) | G20: m2 | H20: 708.2 | J20: =ROUND(H20*I20,2) -> 0
C21: 14 | D21: ODT | E21: ST.3 D-05; D-04 | F21: Odtworzenie nawierzchni zjazdu i chodnika z kostki brukowej wraz z obrzeżem przy użyciu kostki i obrzeży z rozbiórki (działka o nr geod. 81/5) | G21: m2 | H21: 5.1 | J21: =ROUND(H21*I21,2) -> 0
C22: 15 | D22: ODT | E22: ST03 | F22: Odtworzenie nawierzchni żwirowej z materiałów istniejących (działka o nr geod. 81/5) | G22: m2 | H22: 52.9 | J22: =ROUND(H22*I22,2) -> 0
C23: 16 | D23: ODT | E23: ST.03 D-02 | F23: Odtworzenie terenu poza obrysem drogi poprzez rozłożenie wartstwy humusu grub. 10 cm i obsianie trawą (działka o nr geod. 81/5) | G23: m2 | H23: 300.8 | J23: =ROUND(H23*I23,2) -> 0
B24: 4 | C24: OZNAKOWANIE TERENU BUDOWY NA CZAS TRWANIA BUDOWY
C25: 17 | D25: - | E25: - | F25: Oznakowanie Terenu Budowy na czas trwania budowy sieci wodociągowej wraz z przyłączami, zgodnie z wytycznymi i procedurami | G25: kpl | H25: 1 | J25: =ROUND(H25*I25,2) -> 0
I26: SUMA | J26: =SUM(J6:J9)+SUM(J11:J17)+SUM(J19:J23)+J25 -> 0

Sheet Tabela zbiorcza
B2: Tabela zbiorcza
B3: 3-11-17-184-1 pn. „Kórnik - sieć wodociągowa w ul. Miętowej w Skrzynkach”
B4: Nr pozycji | C4: Wyszczególnienie | D4: Wartość netto [PLN]
B5: 1 - 4 | C5: ='Przedmiar robót'!C5 -> SIEĆ WODOCIĄGOWA | D5: =SUM('Przedmiar robót'!J6:J9) -> 0
B6: 5 - 11 | C6: ='Przedmiar robót'!C10 -> PRZYŁĄCZA WODOCIĄGOWE | D6: =SUM('Przedmiar robót'!J11:J17) -> 0
B7: 12 - 16 | C7: ='Przedmiar robót'!C18 -> ODTWORZENIE NAWIERZCHNI | D7: =SUM('Przedmiar robót'!J19:J23) -> 0
B8: 17 | C8: ='Przedmiar robót'!C24 -> OZNAKOWANIE TERENU BUDOWY NA CZAS TRWANIA BUDOWY | D8: ='Przedmiar robót'!J25 -> 0
C9: Razem (1 - 17) | D9: =SUM(D5:D8) -> 0
C10: Cena Ofertowa z wyłączeniem podatku VAT | D10: =D9 -> 0
